BEGIN:VCALENDAR
PRODID:-//opencal/ical//2.0/EN
VERSION:2.0
CALSCALE:GREGORIAN
BEGIN:VEVENT
UID:c10b136e68985e4a2c3d5715fbd5bc19
DTSTAMP:20260303T170035Z
SUMMARY:ILED Advanced Faculty Development Workshop
DESCRIPTION:The Advanced Faculty Development workshop will build on grantee
 s' basic curriculum development and facilitation skills with a focus on im
 pact and increased engagement. The objective is to support grantees to mov
 e beyond "checking a box" to denote their work and prepare them to plan an
 d execute educational programs that move the field forward in an observabl
 e and measurable way.
URL:https://ta2ta.org/event/iled-advanced-faculty-development-workshop/
DTSTART;VALUE=DATE:20260422
LOCATION:Los Angeles\, CA
END:VEVENT
END:VCALENDAR
