BEGIN:VCALENDAR
PRODID:-//opencal/ical//2.0/EN
VERSION:2.0
CALSCALE:GREGORIAN
BEGIN:VEVENT
UID:4eda0330349fb65c55a6ff6d443e0d11
DTSTAMP:20260220T172829Z
SUMMARY:Introduction to Serving LGBTQ+ Survivors
DESCRIPTION:<span data-teams="true">This webinar provides an introduction t
 o service providers and coalitions on working with LGBTQ+ survivors of dom
 estic/dating violence\, sexual assault\, and stalking. Participants will l
 earn about LGBTQ+ survivors’ experiences of violence\, including informa
 tion on prevalence and dynamics of violence\, service providers’ obligat
 ions under the Violence Against Women Act (VAWA)\, as well as best practic
 es for effectively serving LGBTQ+ survivors in their communities.</span>
URL:https://americanbar.qualtrics.com/jfe/form/SV_3ITfX9BABFpEKCW
DTSTART;TZID=America/New_York:20260422T060809
DTEND;TZID=America/New_York:20260422T060809
END:VEVENT
END:VCALENDAR
