BEGIN:VCALENDAR
PRODID:-//opencal/ical//2.0/EN
VERSION:2.0
CALSCALE:GREGORIAN
BEGIN:VEVENT
UID:b9ea3d15d069791d0caf08a7268ea20e
DTSTAMP:20260214T010558Z
SUMMARY:Pasifika Project Talanoa – Continent Region: A Community Listenin
 g &amp\; Visioning Session
DESCRIPTION:Join us for talanoa\, a community listening and visioning sessi
 on as part of the Native Hawaiian and Pacific Islander (NHPI/Pasifika) Pro
 ject\, led by the Asian Pacific Institute on Gender-Based Violence (API-GB
 V) in partnership with Pouhana O Nā Wāhine.\n\nOpen to open to advocates
 \, service providers\, community leaders\, and systems partners serving or
  planning to serve victims of domestic violence\, dating violence\, sexual
  assault\, and stalking in NHPI communities\, this session is designed for
  participants in continent-based time zones (Alaska\, Pacific\, Mountain\,
  Central\, and Eastern). The talanoa centers NHPI-serving organizations’
  perspectives on community-identified needs\, challenges\, and opportuniti
 es to strengthen support for survivors.\n\nParticipation is limited to one
  participant per organization per session. Participants will receive a $75
  stipend.
URL:https://us02web.zoom.us/meeting/register/cKFveOPEQ_u3-pmaHSXFpA#/regist
 ration
DTSTART;TZID=Pacific/Honolulu:20260422T234536
DTEND;TZID=Pacific/Honolulu:20260422T234536
END:VEVENT
END:VCALENDAR
