BEGIN:VCALENDAR
PRODID:-//opencal/ical//2.0/EN
VERSION:2.0
CALSCALE:GREGORIAN
BEGIN:VEVENT
UID:8ec0dd0a29d1eee15a8cd283620b3050
DTSTAMP:20260113T235854Z
SUMMARY:All OVW Grantees Orientation | Stalking Prevention\, Awareness\, an
 d Resource Center
DESCRIPTION:This webinar is part of the FY 25 OVW New Grantees Orientation 
 webinar series for all OVW Grant Programs.  This webinar will provide an 
 overview of the <span data-olk-copy-source="MessageBody">Stalking Preventi
 on\, Awareness\, and Resource Center (SPARC). </span>
URL:https://ta2ta.org/event/all-ovw-grantees-orientation-stalking-preventio
 n-awareness-and-resource-center/
DTSTART;TZID=America/New_York:20260422T055931
DTEND;TZID=America/New_York:20260422T055931
END:VEVENT
END:VCALENDAR
