BEGIN:VCALENDAR
PRODID:-//opencal/ical//2.0/EN
VERSION:2.0
CALSCALE:GREGORIAN
BEGIN:VEVENT
UID:a1a39aa677539768f62e43a968649501
DTSTAMP:20260105T171220Z
SUMMARY:Emerging Issues Webinar: Intimate Partner-Inflicted Brain Injury &a
 mp\; Ethical Lawyering
DESCRIPTION:The Intimate Partner-Inflicted Brain Injury &amp\; Ethical Lawy
 ering Emerging Issues Webinar will educate civil attorneys on best practic
 es for building strong client relationships with\, and advocating zealousl
 y on behalf of\, domestic violence survivors affected by brain injury. Top
 ics will include the client-lawyer relationship\, with particular attentio
 n paid to effective communication\; accommodations both in the office and 
 in court\; navigating questions of capacity\; and nonlegal advocacy.
URL:https://ncjfcj-org.zoom.us/webinar/register/WN_3CuWLsocTyC2ghPShmhZWw#/
 registration
DTSTART;TZID=America/New_York:20260423T043444
DTEND;TZID=America/New_York:20260423T043444
END:VEVENT
END:VCALENDAR
