BEGIN:VCALENDAR
PRODID:-//opencal/ical//2.0/EN
VERSION:2.0
CALSCALE:GREGORIAN
BEGIN:VEVENT
UID:9a4f7003d7b960836af5d7f40d5bf6b8
DTSTAMP:20251014T230217Z
SUMMARY:Office Hours Sexual Assault Housing Collaborative
DESCRIPTION:Calling all sexual assault and housing professionals. Many surv
 ivors of sexual assault have complex housing needs throughout their lifesp
 an. Yet\, a disconnect remains around how sexual violence directly impacts
  housing. Connect with the National Sexual Assault Housing Collaborative a
 nd your peers on the third Thursday of every month at 2pm ET to explore em
 erging issues\, promising practices\, innovative solutions and more to bet
 ter meet the housing needs of survivors of sexual assault. Together\, we c
 an elevate housing as a priority for sexual assault survivors throughout t
 he lifespan.
URL:https://us02web.zoom.us/meeting/register/tZYkf-2sqzMrG9DOHSgFSXqNIpngtm
 0jTKaL
DTSTART;TZID=America/Los_Angeles:20260422T030437
DTEND;TZID=America/Los_Angeles:20260422T030437
END:VEVENT
END:VCALENDAR
