BEGIN:VCALENDAR
PRODID:-//opencal/ical//2.0/EN
VERSION:2.0
CALSCALE:GREGORIAN
BEGIN:VEVENT
UID:a4941a4097a3dfba23c31778a923c395
DTSTAMP:20251014T230203Z
SUMMARY:Envisioning Solutions for Collaborative Practice
DESCRIPTION:The Center for Justice Innovation is pleased to announce the En
 visioning Solutions for Collaborative Practice: Supervised Visitation\, Ad
 vocacy\, and the Courts. This two-day workshop offers Justice for Families
  (JFF) Supervised Visitation and Safe Exchange Grant Program communities t
 he opportunity to engage in strategic thinking and group problem-solving a
 round court and legal issues\, and collaboration efforts among community p
 artners intended to enhance safety\, promote change\, and examine solution
 s to crucial issues around supervised visitation and safe exchange in case
 s of domestic violence\, child abuse\, sexual assault\, stalking\, and dat
 ing violence.\nThe training is scheduled for Wednesday\, October 8\, 2025 
 at 9:00 a.m. to Thursday\, October 9\, 2025 at 5:00 p.m.\nin Denver\, Colo
 rado. Registration is coming soon! For more information\, email: dvinfo@in
 novatingjustice.org The JFF Program seeks to increase the safety of victim
 s of sexual assault\, domestic violence\, dating violence\, and stalking\,
  as well as hold offenders accountable. It encourages coordination among t
 he various systems that victims and offenders interact with\, including co
 urts\, supervised visitation centers\, and civil legal service providers. 
 A primary component of the program involves collaboration with the court a
 nd enhancing a coordinated community response to domestic violence. In ord
 er to maximize this training opportunity\, communities must attend in team
 s of 3 individuals representing the partnerships recommended by the JFF Su
 pervised Visitation and Exchange Grant Program. Teams must include partici
 pants from the following disciplines:\n\nDomestic violence or sexual assau
 lt advocates\nJudicial officers\nSupervised visitation providers
URL:https://ta2ta.org/event/envisioning-solutions-for-collaborative-practic
 e/
DTSTART;TZID=America/Los_Angeles:20260422T031002
DTEND;TZID=America/Los_Angeles:20260422T031002
LOCATION:Denver\, CO
END:VEVENT
END:VCALENDAR
