BEGIN:VCALENDAR
PRODID:-//opencal/ical//2.0/EN
VERSION:2.0
CALSCALE:GREGORIAN
BEGIN:VEVENT
UID:e4781d2e5b74c44ee774e3d3fdf1e479
DTSTAMP:20251014T230152Z
SUMMARY:From Findings to Action: Strengthening Domestic Violence Fatality R
 eview Teams (DVFRTs)
DESCRIPTION:Join us for a webinar to discover how DVFRTs can move beyond re
 viewing cases to activating real change. This session will highlight strat
 egies to improve team effectiveness\, enhance accountability\, and impleme
 nt actionable reforms. Learn how data\, collaboration\, and focused recomm
 endations can prevent future tragedies and strengthen community response t
 o domestic violence.\n
URL:https://ujimacommunity.coalitionmanager.org/eventmanager/trainingevent/
 details/171
DTSTART;TZID=America/Los_Angeles:20260423T023403
DTEND;TZID=America/Los_Angeles:20260423T023403
END:VEVENT
END:VCALENDAR
